BEGIN:VCALENDAR
VERSION:2.0
PRODID:-//ZContent.net//ZapCalLib 1.0//EN
CALSCALE:GREGORIAN
METHOD:PUBLISH
BEGIN:VEVENT
SUMMARY:Kryteria rzymskie V zespołu jelita nadwrażliwego
DTSTART:20260520T160000
DTEND:20260520T181000
UID:Kryteria rzymskie V zespołu jelita nadwrażliwego60424_1777089523
DTSTAMP:20260425T035843
Description:
END:VEVENT
END:VCALENDAR
