BEGIN:VCALENDAR
VERSION:2.0
PRODID:-//ZContent.net//ZapCalLib 1.0//EN
CALSCALE:GREGORIAN
METHOD:PUBLISH
BEGIN:VEVENT
SUMMARY:Zasady leczenia zespołu jelita nadwrażliwego, z uwzględnieniem m
 odulacji zaburzeń funkcjonowania osi mózgowo-jelitowej
DTSTART:20260520T161000
DTEND:20260520T182500
UID:Zasady leczenia zespołu jelita nadwrażliwego, z uwzględnieniem modul
 acji zaburzeń funkcjonowania osi mózgowo-jelitowej60425_1777089523
DTSTAMP:20260425T035843
Description:
END:VEVENT
END:VCALENDAR
