BEGIN:VCALENDAR
VERSION:2.0
PRODID:-//ZContent.net//ZapCalLib 1.0//EN
CALSCALE:GREGORIAN
METHOD:PUBLISH
BEGIN:VEVENT
SUMMARY:Rola psychogastroenterologii oraz opieki koordynowanej w leczeniu p
 acjentów z zaburzeniami osi trzewno–jelitowej
DTSTART:20260520T162500
DTEND:20260520T184000
UID:Rola psychogastroenterologii oraz opieki koordynowanej w leczeniu pacje
 ntów z zaburzeniami osi trzewno–jelitowej60426_1777089518
DTSTAMP:20260425T035838
Description:
END:VEVENT
END:VCALENDAR
