BEGIN:VCALENDAR
VERSION:2.0
PRODID:-//ZContent.net//ZapCalLib 1.0//EN
CALSCALE:GREGORIAN
METHOD:PUBLISH
BEGIN:VEVENT
SUMMARY:Przypadek kliniczny 3
DTSTART:20260630T164000
DTEND:20260630T185500
UID:Przypadek kliniczny 360476_1777091067
DTSTAMP:20260425T042427
Description:
END:VEVENT
END:VCALENDAR
